Package: Pviz Version: 1.41.0 Command: chmod a+r Pviz -R && E:\biocbuild\bbs-3.21-bioc\R\bin\R.exe CMD build --keep-empty-dirs --no-resave-data Pviz StartedAt: 2025-02-19 20:56:01 -0500 (Wed, 19 Feb 2025) EndedAt: 2025-02-19 20:58:17 -0500 (Wed, 19 Feb 2025) EllapsedTime: 135.7 seconds RetCode: 0 Status: OK PackageFile: Pviz_1.41.0.tar.gz PackageFileSize: 199.2 KiB