Package: Pviz Version: 1.41.0 Command: /Library/Frameworks/R.framework/Resources/bin/R CMD INSTALL Pviz StartedAt: 2025-02-20 15:28:37 -0500 (Thu, 20 Feb 2025) EndedAt: 2025-02-20 15:30:23 -0500 (Thu, 20 Feb 2025) EllapsedTime: 106.3 seconds RetCode: 0 Status: OK