Package: Pviz Version: 1.41.0 Command: rm -rf Pviz.buildbin-libdir && mkdir Pviz.buildbin-libdir && /Users/biocbuild/BBS/utils/build-universal.sh Pviz_1.41.0.tar.gz /Library/Frameworks/R.framework/Resources/bin/R Pviz.buildbin-libdir StartedAt: 2025-02-21 00:46:40 -0500 (Fri, 21 Feb 2025) EndedAt: 2025-02-21 00:48:25 -0500 (Fri, 21 Feb 2025) EllapsedTime: 105.0 seconds RetCode: 0 Status: OK PackageFile: Pviz_1.41.0.tgz PackageFileSize: 671.1 KiB