Package: Pviz Version: 1.41.0 Command: /Library/Frameworks/R.framework/Resources/bin/R CMD check --install=check:Pviz.install-out.txt --library=/Library/Frameworks/R.framework/Resources/library --no-vignettes --timings Pviz_1.41.0.tar.gz StartedAt: 2025-02-19 20:54:08 -0500 (Wed, 19 Feb 2025) EndedAt: 2025-02-19 20:56:16 -0500 (Wed, 19 Feb 2025) EllapsedTime: 127.5 seconds RetCode: 0 Status: WARNINGS CheckDir: Pviz.Rcheck Warnings: 1