Package: Pviz Version: 1.41.0 Command: rm -rf Pviz.buildbin-libdir && mkdir Pviz.buildbin-libdir && /Users/biocbuild/BBS/utils/build-universal.sh Pviz_1.41.0.tar.gz /Library/Frameworks/R.framework/Resources/bin/R Pviz.buildbin-libdir StartedAt: 2025-02-19 22:33:44 -0500 (Wed, 19 Feb 2025) EndedAt: 2025-02-19 22:34:22 -0500 (Wed, 19 Feb 2025) EllapsedTime: 37.9 seconds RetCode: 0 Status: OK PackageFile: Pviz_1.41.0.tgz PackageFileSize: 672 KiB