Package: PureCN Version: 2.13.1 Command: /home/biocbuild/bbs-3.21-bioc/R/bin/R CMD build --keep-empty-dirs --no-resave-data PureCN StartedAt: 2025-02-19 18:43:11 -0500 (Wed, 19 Feb 2025) EndedAt: 2025-02-19 18:47:17 -0500 (Wed, 19 Feb 2025) EllapsedTime: 246.3 seconds RetCode: 0 Status: OK PackageFile: PureCN_2.13.1.tar.gz PackageFileSize: 5.723 MiB