Package: PureCN Version: 2.13.1 Command: /Library/Frameworks/R.framework/Resources/bin/R CMD INSTALL PureCN StartedAt: 2025-02-19 15:21:01 -0500 (Wed, 19 Feb 2025) EndedAt: 2025-02-19 15:22:08 -0500 (Wed, 19 Feb 2025) EllapsedTime: 66.9 seconds RetCode: 0 Status: OK