Package: PureCN Version: 2.13.1 Command: /Library/Frameworks/R.framework/Resources/bin/R CMD check --install=check:PureCN.install-out.txt --library=/Library/Frameworks/R.framework/Resources/library --no-vignettes --timings PureCN_2.13.1.tar.gz StartedAt: 2025-02-19 22:31:29 -0500 (Wed, 19 Feb 2025) EndedAt: 2025-02-19 22:48:26 -0500 (Wed, 19 Feb 2025) EllapsedTime: 1017.5 seconds RetCode: 0 Status: OK CheckDir: PureCN.Rcheck Warnings: 0