Package: PureCN Version: 2.13.1 Command: rm -rf PureCN.buildbin-libdir && mkdir PureCN.buildbin-libdir && /Users/biocbuild/BBS/utils/build-universal.sh PureCN_2.13.1.tar.gz /Library/Frameworks/R.framework/Resources/bin/R PureCN.buildbin-libdir StartedAt: 2025-02-17 22:29:03 -0500 (Mon, 17 Feb 2025) EndedAt: 2025-02-17 22:29:25 -0500 (Mon, 17 Feb 2025) EllapsedTime: 22.4 seconds RetCode: 0 Status: OK PackageFile: PureCN_2.13.1.tgz PackageFileSize: 6.184 MiB