Package: ProteoMM Version: 1.25.0 Command: /home/biocbuild/bbs-3.21-bioc/R/bin/R CMD INSTALL ProteoMM StartedAt: 2025-02-20 15:35:19 -0500 (Thu, 20 Feb 2025) EndedAt: 2025-02-20 15:35:24 -0500 (Thu, 20 Feb 2025) EllapsedTime: 4.6 seconds RetCode: 0 Status: OK