Package: ProteoMM Version: 1.25.0 Command: /home/biocbuild/bbs-3.21-bioc/R/bin/R CMD build --keep-empty-dirs --no-resave-data ProteoMM StartedAt: 2025-02-20 18:47:09 -0500 (Thu, 20 Feb 2025) EndedAt: 2025-02-20 18:47:40 -0500 (Thu, 20 Feb 2025) EllapsedTime: 31.0 seconds RetCode: 0 Status: OK PackageFile: ProteoMM_1.25.0.tar.gz PackageFileSize: 473.7 KiB