Package: ProteoDisco Version: 1.13.0 Command: E:\biocbuild\bbs-3.21-bioc\R\bin\R.exe CMD check --no-multiarch --install=check:ProteoDisco.install-out.txt --library=E:\biocbuild\bbs-3.21-bioc\R\library --no-vignettes --timings ProteoDisco_1.13.0.tar.gz StartedAt: 2025-02-21 04:36:20 -0500 (Fri, 21 Feb 2025) EndedAt: 2025-02-21 04:47:25 -0500 (Fri, 21 Feb 2025) EllapsedTime: 665.4 seconds RetCode: 0 Status: WARNINGS CheckDir: ProteoDisco.Rcheck Warnings: 2