Package: ProteoDisco Version: 1.13.0 Command: chmod a+r ProteoDisco -R && E:\biocbuild\bbs-3.21-bioc\R\bin\R.exe CMD build --keep-empty-dirs --no-resave-data ProteoDisco StartedAt: 2025-02-20 20:58:14 -0500 (Thu, 20 Feb 2025) EndedAt: 2025-02-20 21:01:56 -0500 (Thu, 20 Feb 2025) EllapsedTime: 222.6 seconds RetCode: 0 Status: OK PackageFile: ProteoDisco_1.13.0.tar.gz PackageFileSize: 480.4 KiB