Package: ProteoDisco Version: 1.13.0 Command: /Library/Frameworks/R.framework/Resources/bin/R CMD check --install=check:ProteoDisco.install-out.txt --library=/Library/Frameworks/R.framework/Resources/library --no-vignettes --timings ProteoDisco_1.13.0.tar.gz StartedAt: 2025-02-20 22:30:23 -0500 (Thu, 20 Feb 2025) EndedAt: 2025-02-20 22:39:09 -0500 (Thu, 20 Feb 2025) EllapsedTime: 525.5 seconds RetCode: 0 Status: WARNINGS CheckDir: ProteoDisco.Rcheck Warnings: 2