Package: ProteoDisco Version: 1.13.0 Command: /Library/Frameworks/R.framework/Resources/bin/R CMD build --keep-empty-dirs --no-resave-data ProteoDisco StartedAt: 2025-02-20 17:51:44 -0500 (Thu, 20 Feb 2025) EndedAt: 2025-02-20 17:54:27 -0500 (Thu, 20 Feb 2025) EllapsedTime: 163.4 seconds RetCode: 0 Status: OK PackageFile: ProteoDisco_1.13.0.tar.gz PackageFileSize: 505.1 KiB