Package: Prostar Version: 1.39.0 Command: E:\biocbuild\bbs-3.21-bioc\R\bin\R.exe CMD check --no-multiarch --install=check:Prostar.install-out.txt --library=E:\biocbuild\bbs-3.21-bioc\R\library --no-vignettes --timings Prostar_1.39.0.tar.gz StartedAt: 2025-02-21 04:35:57 -0500 (Fri, 21 Feb 2025) EndedAt: 2025-02-21 04:40:41 -0500 (Fri, 21 Feb 2025) EllapsedTime: 284.5 seconds RetCode: 0 Status: OK CheckDir: Prostar.Rcheck Warnings: 0