Package: Prostar Version: 1.39.0 Command: rm -rf Prostar.buildbin-libdir && mkdir Prostar.buildbin-libdir && E:\biocbuild\bbs-3.21-bioc\R\bin\R.exe CMD INSTALL --build --library=Prostar.buildbin-libdir Prostar_1.39.0.tar.gz StartedAt: 2025-02-21 08:48:37 -0500 (Fri, 21 Feb 2025) EndedAt: 2025-02-21 08:49:31 -0500 (Fri, 21 Feb 2025) EllapsedTime: 54.4 seconds RetCode: 0 Status: OK PackageFile: Prostar_1.39.0.zip PackageFileSize: 1.677 MiB