Package: Prostar Version: 1.39.0 Command: /home/biocbuild/bbs-3.21-bioc/R/bin/R CMD INSTALL Prostar StartedAt: 2025-02-20 15:49:58 -0500 (Thu, 20 Feb 2025) EndedAt: 2025-02-20 15:50:35 -0500 (Thu, 20 Feb 2025) EllapsedTime: 37.3 seconds RetCode: 0 Status: OK