Package: Prostar Version: 1.39.0 Command: /Library/Frameworks/R.framework/Resources/bin/R CMD build --keep-empty-dirs --no-resave-data Prostar StartedAt: 2025-02-20 17:51:38 -0500 (Thu, 20 Feb 2025) EndedAt: 2025-02-20 17:52:21 -0500 (Thu, 20 Feb 2025) EllapsedTime: 43.3 seconds RetCode: 0 Status: OK PackageFile: Prostar_1.39.0.tar.gz PackageFileSize: 4.262 MiB