Package: Prostar Version: 1.39.0 Command: /Library/Frameworks/R.framework/Resources/bin/R CMD check --install=check:Prostar.install-out.txt --library=/Library/Frameworks/R.framework/Resources/library --no-vignettes --timings Prostar_1.39.0.tar.gz StartedAt: 2025-02-20 20:49:16 -0500 (Thu, 20 Feb 2025) EndedAt: 2025-02-20 20:50:50 -0500 (Thu, 20 Feb 2025) EllapsedTime: 94.1 seconds RetCode: 0 Status: OK CheckDir: Prostar.Rcheck Warnings: 0