Package: PrInCE Version: 1.23.0 Command: E:\biocbuild\bbs-3.21-bioc\R\bin\R.exe CMD INSTALL PrInCE StartedAt: 2025-02-20 16:35:12 -0500 (Thu, 20 Feb 2025) EndedAt: 2025-02-20 16:36:29 -0500 (Thu, 20 Feb 2025) EllapsedTime: 76.7 seconds RetCode: 0 Status: OK