Package: PrInCE Version: 1.23.0 Command: chmod a+r PrInCE -R && E:\biocbuild\bbs-3.21-bioc\R\bin\R.exe CMD build --keep-empty-dirs --no-resave-data PrInCE StartedAt: 2025-02-20 20:55:49 -0500 (Thu, 20 Feb 2025) EndedAt: 2025-02-20 20:59:28 -0500 (Thu, 20 Feb 2025) EllapsedTime: 219.1 seconds RetCode: 0 Status: OK PackageFile: PrInCE_1.23.0.tar.gz PackageFileSize: 1.799 MiB