Package: PrInCE Version: 1.23.0 Command: rm -rf PrInCE.buildbin-libdir && mkdir PrInCE.buildbin-libdir && E:\biocbuild\bbs-3.21-bioc\R\bin\R.exe CMD INSTALL --build --library=PrInCE.buildbin-libdir PrInCE_1.23.0.tar.gz StartedAt: 2025-02-21 08:47:48 -0500 (Fri, 21 Feb 2025) EndedAt: 2025-02-21 08:48:43 -0500 (Fri, 21 Feb 2025) EllapsedTime: 54.7 seconds RetCode: 0 Status: OK PackageFile: PrInCE_1.23.0.zip PackageFileSize: 1.672 MiB