Package: PrInCE Version: 1.23.0 Command: /home/biocbuild/bbs-3.21-bioc/R/bin/R CMD INSTALL PrInCE StartedAt: 2025-02-20 15:50:02 -0500 (Thu, 20 Feb 2025) EndedAt: 2025-02-20 15:50:53 -0500 (Thu, 20 Feb 2025) EllapsedTime: 50.8 seconds RetCode: 0 Status: OK