Package: PrInCE Version: 1.23.0 Command: /home/biocbuild/bbs-3.21-bioc/R/bin/R CMD build --keep-empty-dirs --no-resave-data PrInCE StartedAt: 2025-02-20 18:45:35 -0500 (Thu, 20 Feb 2025) EndedAt: 2025-02-20 18:48:00 -0500 (Thu, 20 Feb 2025) EllapsedTime: 145.2 seconds RetCode: 0 Status: OK PackageFile: PrInCE_1.23.0.tar.gz PackageFileSize: 1.861 MiB