Package: PrInCE Version: 1.23.0 Command: /Library/Frameworks/R.framework/Resources/bin/R CMD build --keep-empty-dirs --no-resave-data PrInCE StartedAt: 2025-02-20 17:50:23 -0500 (Thu, 20 Feb 2025) EndedAt: 2025-02-20 17:52:59 -0500 (Thu, 20 Feb 2025) EllapsedTime: 156.4 seconds RetCode: 0 Status: OK PackageFile: PrInCE_1.23.0.tar.gz PackageFileSize: 1.818 MiB