Package: PrInCE Version: 1.23.0 Command: rm -rf PrInCE.buildbin-libdir && mkdir PrInCE.buildbin-libdir && /Users/biocbuild/BBS/utils/build-universal.sh PrInCE_1.23.0.tar.gz /Library/Frameworks/R.framework/Resources/bin/R PrInCE.buildbin-libdir StartedAt: 2025-02-21 00:46:04 -0500 (Fri, 21 Feb 2025) EndedAt: 2025-02-21 00:47:00 -0500 (Fri, 21 Feb 2025) EllapsedTime: 55.5 seconds RetCode: 0 Status: OK PackageFile: PrInCE_1.23.0.tgz PackageFileSize: 1.686 MiB