Package: PrInCE Version: 1.23.0 Command: /Library/Frameworks/R.framework/Resources/bin/R CMD check --install=check:PrInCE.install-out.txt --library=/Library/Frameworks/R.framework/Resources/library --no-vignettes --timings PrInCE_1.23.0.tar.gz StartedAt: 2025-02-20 20:47:36 -0500 (Thu, 20 Feb 2025) EndedAt: 2025-02-20 20:49:31 -0500 (Thu, 20 Feb 2025) EllapsedTime: 115.4 seconds RetCode: 0 Status: WARNINGS CheckDir: PrInCE.Rcheck Warnings: 1