Package: Polytect Version: 0.99.5 Command: E:\biocbuild\bbs-3.21-bioc\R\bin\R.exe CMD INSTALL Polytect StartedAt: 2025-02-20 15:54:58 -0500 (Thu, 20 Feb 2025) EndedAt: 2025-02-20 15:55:26 -0500 (Thu, 20 Feb 2025) EllapsedTime: 28.1 seconds RetCode: 0 Status: OK