Package: Polytect Version: 0.99.5 Command: E:\biocbuild\bbs-3.21-bioc\R\bin\R.exe CMD check --no-multiarch --install=check:Polytect.install-out.txt --library=E:\biocbuild\bbs-3.21-bioc\R\library --no-vignettes --timings Polytect_0.99.5.tar.gz StartedAt: 2025-02-21 04:28:43 -0500 (Fri, 21 Feb 2025) EndedAt: 2025-02-21 04:30:57 -0500 (Fri, 21 Feb 2025) EllapsedTime: 134.4 seconds RetCode: 0 Status: OK CheckDir: Polytect.Rcheck Warnings: 0