Package: Polytect Version: 0.99.5 Command: rm -rf Polytect.buildbin-libdir && mkdir Polytect.buildbin-libdir && E:\biocbuild\bbs-3.21-bioc\R\bin\R.exe CMD INSTALL --build --library=Polytect.buildbin-libdir Polytect_0.99.5.tar.gz StartedAt: 2025-02-21 08:47:05 -0500 (Fri, 21 Feb 2025) EndedAt: 2025-02-21 08:47:32 -0500 (Fri, 21 Feb 2025) EllapsedTime: 26.8 seconds RetCode: 0 Status: OK PackageFile: Polytect_0.99.5.zip PackageFileSize: 2.073 MiB