Package: Polytect Version: 0.99.5 Command: /home/biocbuild/bbs-3.21-bioc/R/bin/R CMD INSTALL Polytect StartedAt: 2025-02-20 15:19:12 -0500 (Thu, 20 Feb 2025) EndedAt: 2025-02-20 15:19:21 -0500 (Thu, 20 Feb 2025) EllapsedTime: 8.5 seconds RetCode: 0 Status: OK