Package: Polytect Version: 0.99.5 Command: /home/biocbuild/bbs-3.21-bioc/R/bin/R CMD build --keep-empty-dirs --no-resave-data Polytect StartedAt: 2025-02-20 18:44:25 -0500 (Thu, 20 Feb 2025) EndedAt: 2025-02-20 18:45:48 -0500 (Thu, 20 Feb 2025) EllapsedTime: 83.1 seconds RetCode: 0 Status: OK PackageFile: Polytect_0.99.5.tar.gz PackageFileSize: 2.198 MiB