Package: Polytect Version: 0.99.5 Command: /Library/Frameworks/R.framework/Resources/bin/R CMD INSTALL Polytect StartedAt: 2025-02-20 15:31:25 -0500 (Thu, 20 Feb 2025) EndedAt: 2025-02-20 15:31:38 -0500 (Thu, 20 Feb 2025) EllapsedTime: 13.5 seconds RetCode: 0 Status: OK