Package: Polytect Version: 0.99.5 Command: /Library/Frameworks/R.framework/Resources/bin/R CMD check --install=check:Polytect.install-out.txt --library=/Library/Frameworks/R.framework/Resources/library --no-vignettes --timings Polytect_0.99.5.tar.gz StartedAt: 2025-02-20 22:25:26 -0500 (Thu, 20 Feb 2025) EndedAt: 2025-02-20 22:27:23 -0500 (Thu, 20 Feb 2025) EllapsedTime: 117.1 seconds RetCode: 0 Status: OK CheckDir: Polytect.Rcheck Warnings: 0