Package: Polytect Version: 0.99.5 Command: rm -rf Polytect.buildbin-libdir && mkdir Polytect.buildbin-libdir && /Users/biocbuild/BBS/utils/build-universal.sh Polytect_0.99.5.tar.gz /Library/Frameworks/R.framework/Resources/bin/R Polytect.buildbin-libdir StartedAt: 2025-02-21 00:45:51 -0500 (Fri, 21 Feb 2025) EndedAt: 2025-02-21 00:46:05 -0500 (Fri, 21 Feb 2025) EllapsedTime: 14.0 seconds RetCode: 0 Status: OK PackageFile: Polytect_0.99.5.tgz PackageFileSize: 2.206 MiB