Package: Polytect Version: 0.99.5 Command: /Library/Frameworks/R.framework/Resources/bin/R CMD check --install=check:Polytect.install-out.txt --library=/Library/Frameworks/R.framework/Resources/library --no-vignettes --timings Polytect_0.99.5.tar.gz StartedAt: 2025-02-20 20:45:34 -0500 (Thu, 20 Feb 2025) EndedAt: 2025-02-20 20:46:14 -0500 (Thu, 20 Feb 2025) EllapsedTime: 39.4 seconds RetCode: 0 Status: OK CheckDir: Polytect.Rcheck Warnings: 0