Package: PolySTest Version: 1.1.0 Command: /home/biocbuild/bbs-3.21-bioc/R/bin/R CMD check --install=check:PolySTest.install-out.txt --library=/home/biocbuild/bbs-3.21-bioc/R/site-library --timings PolySTest_1.1.0.tar.gz StartedAt: 2025-02-22 01:04:48 -0500 (Sat, 22 Feb 2025) EndedAt: 2025-02-22 01:13:43 -0500 (Sat, 22 Feb 2025) EllapsedTime: 535.7 seconds RetCode: 0 Status: OK CheckDir: PolySTest.Rcheck Warnings: 0