Package: PolySTest Version: 1.1.0 Command: /Library/Frameworks/R.framework/Resources/bin/R CMD build --keep-empty-dirs --no-resave-data PolySTest StartedAt: 2025-02-20 17:49:20 -0500 (Thu, 20 Feb 2025) EndedAt: 2025-02-20 17:51:09 -0500 (Thu, 20 Feb 2025) EllapsedTime: 109.6 seconds RetCode: 0 Status: OK PackageFile: PolySTest_1.1.0.tar.gz PackageFileSize: 2.163 MiB