Package: PolySTest Version: 1.1.0 Command: /Library/Frameworks/R.framework/Resources/bin/R CMD check --install=check:PolySTest.install-out.txt --library=/Library/Frameworks/R.framework/Resources/library --no-vignettes --timings PolySTest_1.1.0.tar.gz StartedAt: 2025-02-20 20:45:22 -0500 (Thu, 20 Feb 2025) EndedAt: 2025-02-20 20:48:17 -0500 (Thu, 20 Feb 2025) EllapsedTime: 175.1 seconds RetCode: 0 Status: OK CheckDir: PolySTest.Rcheck Warnings: 0