Package: PolySTest Version: 1.1.0 Command: rm -rf PolySTest.buildbin-libdir && mkdir PolySTest.buildbin-libdir && /Users/biocbuild/BBS/utils/build-universal.sh PolySTest_1.1.0.tar.gz /Library/Frameworks/R.framework/Resources/bin/R PolySTest.buildbin-libdir StartedAt: 2025-02-20 22:29:57 -0500 (Thu, 20 Feb 2025) EndedAt: 2025-02-20 22:30:09 -0500 (Thu, 20 Feb 2025) EllapsedTime: 12.2 seconds RetCode: 0 Status: OK PackageFile: PolySTest_1.1.0.tgz PackageFileSize: 2.274 MiB