Package: PoDCall Version: 1.15.2 Command: /home/biocbuild/bbs-3.21-bioc/R/bin/R CMD check --install=check:PoDCall.install-out.txt --library=/home/biocbuild/bbs-3.21-bioc/R/site-library --timings PoDCall_1.15.2.tar.gz StartedAt: 2025-02-20 01:15:13 -0500 (Thu, 20 Feb 2025) EndedAt: 2025-02-20 01:25:17 -0500 (Thu, 20 Feb 2025) EllapsedTime: 604.8 seconds RetCode: 0 Status: OK CheckDir: PoDCall.Rcheck Warnings: 0