Package: PoDCall Version: 1.15.2 Command: /Library/Frameworks/R.framework/Resources/bin/R CMD build --keep-empty-dirs --no-resave-data PoDCall StartedAt: 2025-02-19 17:49:25 -0500 (Wed, 19 Feb 2025) EndedAt: 2025-02-19 17:49:48 -0500 (Wed, 19 Feb 2025) EllapsedTime: 22.7 seconds RetCode: 0 Status: OK PackageFile: PoDCall_1.15.2.tar.gz PackageFileSize: 3.048 MiB