Package: Pirat Version: 1.1.0 Command: rm -rf Pirat.buildbin-libdir && mkdir Pirat.buildbin-libdir && E:\biocbuild\bbs-3.21-bioc\R\bin\R.exe CMD INSTALL --build --library=Pirat.buildbin-libdir Pirat_1.1.0.tar.gz StartedAt: 2025-02-21 08:46:22 -0500 (Fri, 21 Feb 2025) EndedAt: 2025-02-21 08:46:55 -0500 (Fri, 21 Feb 2025) EllapsedTime: 32.8 seconds RetCode: 0 Status: OK PackageFile: Pirat_1.1.0.zip PackageFileSize: 2.636 MiB