Package: Pirat Version: 1.1.0 Command: /home/biocbuild/bbs-3.21-bioc/R/bin/R CMD check --install=check:Pirat.install-out.txt --library=/home/biocbuild/bbs-3.21-bioc/R/site-library --timings Pirat_1.1.0.tar.gz StartedAt: 2025-02-21 00:40:46 -0500 (Fri, 21 Feb 2025) EndedAt: 2025-02-21 00:45:25 -0500 (Fri, 21 Feb 2025) EllapsedTime: 279.4 seconds RetCode: 0 Status: OK CheckDir: Pirat.Rcheck Warnings: 0