Package: Pirat Version: 1.1.0 Command: /home/biocbuild/bbs-3.21-bioc/R/bin/R CMD build --keep-empty-dirs --no-resave-data Pirat StartedAt: 2025-02-20 18:42:58 -0500 (Thu, 20 Feb 2025) EndedAt: 2025-02-20 18:43:50 -0500 (Thu, 20 Feb 2025) EllapsedTime: 52.1 seconds RetCode: 0 Status: OK PackageFile: Pirat_1.1.0.tar.gz PackageFileSize: 2.633 MiB