Package: Pirat Version: 1.1.0 Command: /Library/Frameworks/R.framework/Resources/bin/R CMD INSTALL Pirat StartedAt: 2025-02-20 15:10:52 -0500 (Thu, 20 Feb 2025) EndedAt: 2025-02-20 15:11:18 -0500 (Thu, 20 Feb 2025) EllapsedTime: 25.8 seconds RetCode: 0 Status: OK