Package: Pirat Version: 1.1.0 Command: /Library/Frameworks/R.framework/Resources/bin/R CMD build --keep-empty-dirs --no-resave-data Pirat StartedAt: 2025-02-20 17:14:59 -0500 (Thu, 20 Feb 2025) EndedAt: 2025-02-20 17:15:21 -0500 (Thu, 20 Feb 2025) EllapsedTime: 21.2 seconds RetCode: 0 Status: OK PackageFile: Pirat_1.1.0.tar.gz PackageFileSize: 2.635 MiB