Package: Pigengene Version: 1.33.0 Command: /home/biocbuild/bbs-3.21-bioc/R/bin/R CMD INSTALL Pigengene StartedAt: 2025-02-20 16:01:25 -0500 (Thu, 20 Feb 2025) EndedAt: 2025-02-20 16:01:26 -0500 (Thu, 20 Feb 2025) EllapsedTime: 1.3 seconds RetCode: 1 Status: ERROR