Package: Pigengene Version: 1.33.0 Command: /Library/Frameworks/R.framework/Resources/bin/R CMD build --keep-empty-dirs --no-resave-data Pigengene StartedAt: 2025-02-20 17:48:24 -0500 (Thu, 20 Feb 2025) EndedAt: 2025-02-20 17:51:38 -0500 (Thu, 20 Feb 2025) EllapsedTime: 194.3 seconds RetCode: 0 Status: OK PackageFile: Pigengene_1.33.0.tar.gz PackageFileSize: 2.697 MiB